BEGIN:VCALENDAR
VERSION:2.0
PRODID:-//Theater am Kastelberg - ECPv6.15.20//NONSGML v1.0//EN
CALSCALE:GREGORIAN
METHOD:PUBLISH
X-WR-CALNAME:Theater am Kastelberg
X-ORIGINAL-URL:https://theater-am-kastelberg.de
X-WR-CALDESC:Veranstaltungen für Theater am Kastelberg
REFRESH-INTERVAL;VALUE=DURATION:PT1H
X-Robots-Tag:noindex
X-PUBLISHED-TTL:PT1H
BEGIN:VTIMEZONE
TZID:Europe/Berlin
BEGIN:DAYLIGHT
TZOFFSETFROM:+0100
TZOFFSETTO:+0200
TZNAME:CEST
DTSTART:20250330T010000
END:DAYLIGHT
BEGIN:STANDARD
TZOFFSETFROM:+0200
TZOFFSETTO:+0100
TZNAME:CET
DTSTART:20251026T010000
END:STANDARD
BEGIN:DAYLIGHT
TZOFFSETFROM:+0100
TZOFFSETTO:+0200
TZNAME:CEST
DTSTART:20260329T010000
END:DAYLIGHT
BEGIN:STANDARD
TZOFFSETFROM:+0200
TZOFFSETTO:+0100
TZNAME:CET
DTSTART:20261025T010000
END:STANDARD
BEGIN:DAYLIGHT
TZOFFSETFROM:+0100
TZOFFSETTO:+0200
TZNAME:CEST
DTSTART:20270328T010000
END:DAYLIGHT
BEGIN:STANDARD
TZOFFSETFROM:+0200
TZOFFSETTO:+0100
TZNAME:CET
DTSTART:20271031T010000
END:STANDARD
END:VTIMEZONE
BEGIN:VEVENT
DTSTART;TZID=Europe/Berlin:20260423T200000
DTEND;TZID=Europe/Berlin:20260423T213000
DTSTAMP:20260423T031814
CREATED:20260212T082647Z
LAST-MODIFIED:20260316T151409Z
UID:3197-1776974400-1776979800@theater-am-kastelberg.de
SUMMARY:Soë Blue Live – Same Heart Tour
DESCRIPTION:Soë Blue Singer-Songwriterin am Piano und Dominic Eschmann am Schlagzeug \nDie Züricher Singer-Songwriterin Soë Blue ist erstmals auf Deutschlandtour und macht dabei Halt in Waldkirch. Hier ist sie vielen bereits\nals Solistin des Züricher Chors beim Singenden Weihnachtsbaum bekannt – nun präsentiert sie ihr eigenes Konzertprogramm in voller Länge. \nEine musikalische Reise mit gefühlvollen Songs\, ehrlichen Worten und einer unverwechselbaren souligen Stimme. Soë Blue performt Songs aus ihren letzten drei Alben – darunter Tracks von ihrer 3-monatigen Nashville-Reise 2024. Plus neue Singles und exklusive Einblicke in noch unveröffentlichte Songs aus dem Münchner TWH Studio. \nOb zarte Balladen oder groovige Songs – jede Note erzählt vom Mut\, sich selbst treu zu bleiben\, vom Lieben\, Verlieren und Wiederfinden. \nHandgemachte Musik. Ein besonderer Moment und du mittendrin. \nWe may not look the same – but we share the same heart. \nwww.soeblue.com \n  \nEintritt Vorverkauf: 17.- EUR \nEintritt Abendkasse: 19.- EUR \nKartenvorverkauf: Buchhandlung Augustiniok\, Waldkirch oder https://www.eventbrite.de/e/1983176009831?aff=oddtdtcreator \nKartenreservierung: hier
URL:https://theater-am-kastelberg.de/event/soe-blue-live-same-heart-tour/
CATEGORIES:Konzert
ATTACH;FMTTYPE=image/jpeg:https://theater-am-kastelberg.de/wp-content/uploads/2026/02/Pressefoto-1-Soe-Blue-DE-Tour_c-scaled.jpg
END:VEVENT
END:VCALENDAR