BEGIN:VCALENDAR
VERSION:2.0
PRODID:-//Theater am Kastelberg - ECPv6.15.20//NONSGML v1.0//EN
CALSCALE:GREGORIAN
METHOD:PUBLISH
X-ORIGINAL-URL:https://theater-am-kastelberg.de
X-WR-CALDESC:Veranstaltungen für Theater am Kastelberg
REFRESH-INTERVAL;VALUE=DURATION:PT1H
X-Robots-Tag:noindex
X-PUBLISHED-TTL:PT1H
BEGIN:VTIMEZONE
TZID:Europe/Berlin
BEGIN:DAYLIGHT
TZOFFSETFROM:+0100
TZOFFSETTO:+0200
TZNAME:CEST
DTSTART:20260329T010000
END:DAYLIGHT
BEGIN:STANDARD
TZOFFSETFROM:+0200
TZOFFSETTO:+0100
TZNAME:CET
DTSTART:20261025T010000
END:STANDARD
BEGIN:DAYLIGHT
TZOFFSETFROM:+0100
TZOFFSETTO:+0200
TZNAME:CEST
DTSTART:20270328T010000
END:DAYLIGHT
BEGIN:STANDARD
TZOFFSETFROM:+0200
TZOFFSETTO:+0100
TZNAME:CET
DTSTART:20271031T010000
END:STANDARD
BEGIN:DAYLIGHT
TZOFFSETFROM:+0100
TZOFFSETTO:+0200
TZNAME:CEST
DTSTART:20280326T010000
END:DAYLIGHT
BEGIN:STANDARD
TZOFFSETFROM:+0200
TZOFFSETTO:+0100
TZNAME:CET
DTSTART:20281029T010000
END:STANDARD
END:VTIMEZONE
BEGIN:VEVENT
DTSTART;TZID=Europe/Berlin:20271209T150000
DTEND;TZID=Europe/Berlin:20271209T154500
DTSTAMP:20260423T104820
CREATED:20260412T143141Z
LAST-MODIFIED:20260412T143141Z
UID:3274-1828364400-1828367100@theater-am-kastelberg.de
SUMMARY:Freiburger Puppenbühne – Kasper und der Weihnachtsmann
DESCRIPTION:In der geheimnisvollen Weihnachtszeit\, die uns alle in der Kindheit in spannende Erwartung versetzt hat\, sind immer noch die Jüngsten voll von wissensdurstiger Neugier und die Älteren von schönen Erinnerungen! \nHeiligabend steht vor der Tür und alle\, ob groß ob klein\, freuen sich auf das Weihnachtsfest. \nGroßmutter\, die in letzter Zeit schlecht schläft\, hat sich ein neues Kopfkissen gewünscht. Doch auch Hexe Klapperzahn verfolgt ungeduldig die Ankunft des Weihnachtsmannes. In einem günstigen Augenblick stiehlt die listige Zaubermeisterin das Geschenk für die Großmutter. \nGespannt verfolgen die Zuschauer\, ob es Kasper und seinen Freunden gelingt\, der bösen Hexe das gestohlene Weihnachtsgeschenk wieder abzunehmen. – Mit Hilfe der Kinder gelingt das bestimmt! Und weil das Abenteuer gemeinsam so gut bestanden wird\, singen zum Abschluss alle gerne noch gemeinsam für den Weihnachtsmann ein Lied! \nKonsum und Hektik in der vorweihnachtlichen Zeit werden am Rande thematisiert. Insgesamt ein Stück\, das die Kinder in ihren Phantasien unterstützt und bestärkt. \nAb 4 Jahre. \nhttps://www.freiburger-puppenbuehne.de \n  \nEintritt: 9 € pro Person
URL:https://theater-am-kastelberg.de/event/freiburger-puppenbuehne-kasper-und-der-weihnachtsmann-10/
CATEGORIES:Kindertheater,Puppentheater
ATTACH;FMTTYPE=image/jpeg:https://theater-am-kastelberg.de/wp-content/uploads/2023/11/Kasper-und-der-Weihnachtsmann-Querformat_c.jpg
END:VEVENT
BEGIN:VEVENT
DTSTART;TZID=Europe/Berlin:20271209T163000
DTEND;TZID=Europe/Berlin:20271209T171500
DTSTAMP:20260423T104820
CREATED:20260412T143247Z
LAST-MODIFIED:20260412T143247Z
UID:3276-1828369800-1828372500@theater-am-kastelberg.de
SUMMARY:Freiburger Puppenbühne – Kasper und der Weihnachtsmann
DESCRIPTION:In der geheimnisvollen Weihnachtszeit\, die uns alle in der Kindheit in spannende Erwartung versetzt hat\, sind immer noch die Jüngsten voll von wissensdurstiger Neugier und die Älteren von schönen Erinnerungen! \nHeiligabend steht vor der Tür und alle\, ob groß ob klein\, freuen sich auf das Weihnachtsfest. \nGroßmutter\, die in letzter Zeit schlecht schläft\, hat sich ein neues Kopfkissen gewünscht. Doch auch Hexe Klapperzahn verfolgt ungeduldig die Ankunft des Weihnachtsmannes. In einem günstigen Augenblick stiehlt die listige Zaubermeisterin das Geschenk für die Großmutter. \nGespannt verfolgen die Zuschauer\, ob es Kasper und seinen Freunden gelingt\, der bösen Hexe das gestohlene Weihnachtsgeschenk wieder abzunehmen. – Mit Hilfe der Kinder gelingt das bestimmt! Und weil das Abenteuer gemeinsam so gut bestanden wird\, singen zum Abschluss alle gerne noch gemeinsam für den Weihnachtsmann ein Lied! \nKonsum und Hektik in der vorweihnachtlichen Zeit werden am Rande thematisiert. Insgesamt ein Stück\, das die Kinder in ihren Phantasien unterstützt und bestärkt. \nAb 4 Jahre. \nhttps://www.freiburger-puppenbuehne.de \n  \nEintritt: 9 € pro Person
URL:https://theater-am-kastelberg.de/event/freiburger-puppenbuehne-kasper-und-der-weihnachtsmann-11/
CATEGORIES:Kindertheater,Puppentheater
ATTACH;FMTTYPE=image/jpeg:https://theater-am-kastelberg.de/wp-content/uploads/2023/11/Kasper-und-der-Weihnachtsmann-Querformat_c.jpg
END:VEVENT
END:VCALENDAR